BEGIN:VCALENDAR
VERSION:2.0
PRODID:-//hacksw/handcal//NONSGML v1.0//EN
BEGIN:VEVENT
SUMMARY:D5 D5 12-BAM-6 D5 contre 12-SAB-3 D5
UID:b6dd873e-69be-407e-a4a1-cf76a03332f0
DTSTART:20260510T080000Z
DTEND:20260510T220000Z
LOCATION:Localisation   
CATEGORIES:Sportif
STATUS:
URL;VALUE=URI:https://bad-au-monas.sportsregions.fr/evenements/2026/05/10/d5-d5-12-bam-6-d5-contre-12-sab-3-d5-2418123
END:VEVENT
BEGIN:VEVENT
SUMMARY:D1 D1 12-BAM-2 D1 contre 12-SAB-1 D1
UID:97a25765-9f4e-42bc-b3b9-cdc8e21fe26d
DTSTART:20260510T080000Z
DTEND:20260510T220000Z
LOCATION:Localisation   
CATEGORIES:Sportif
STATUS:
URL;VALUE=URI:https://bad-au-monas.sportsregions.fr/evenements/2026/05/10/d1-d1-12-bam-2-d1-contre-12-sab-1-d1-2418122
END:VEVENT
BEGIN:VEVENT
SUMMARY:D4 D4 12-BAM-5 D4 contre 12-OBAD-4 D4
UID:e835e663-7b02-404b-818a-a5e185fda064
DTSTART:20260510T080000Z
DTEND:20260510T220000Z
LOCATION:Localisation   
CATEGORIES:Sportif
STATUS:
URL;VALUE=URI:https://bad-au-monas.sportsregions.fr/evenements/2026/05/10/d4-d4-12-bam-5-d4-contre-12-obad-4-d4-2418121
END:VEVENT
BEGIN:VEVENT
SUMMARY:D5 D5 12-BAM-6 D5 contre 12-CBR-7 D5
UID:f8d7a41d-22d5-45db-9179-ac16bef8bfee
DTSTART:20260510T120000Z
DTEND:20260510T220000Z
LOCATION:Localisation   
CATEGORIES:Sportif
STATUS:
URL;VALUE=URI:https://bad-au-monas.sportsregions.fr/evenements/2026/05/10/d5-d5-12-bam-6-d5-contre-12-cbr-7-d5-2418126
END:VEVENT
BEGIN:VEVENT
SUMMARY:D1 D1 48-BCBG-2 D1 contre 12-BAM-2 D1
UID:4af528a6-a743-4784-a8eb-e5fb18b5e09e
DTSTART:20260510T120000Z
DTEND:20260510T220000Z
LOCATION:Localisation   
CATEGORIES:Sportif
STATUS:
URL;VALUE=URI:https://bad-au-monas.sportsregions.fr/evenements/2026/05/10/d1-d1-48-bcbg-2-d1-contre-12-bam-2-d1-2418125
END:VEVENT
BEGIN:VEVENT
SUMMARY:D4 D4 12-BAM-5 D4 contre 12-CBR-6 D4
UID:47c52cf0-eac1-498c-aab5-87e4ba83b971
DTSTART:20260510T120000Z
DTEND:20260510T220000Z
LOCATION:Localisation   
CATEGORIES:Sportif
STATUS:
URL;VALUE=URI:https://bad-au-monas.sportsregions.fr/evenements/2026/05/10/d4-d4-12-bam-5-d4-contre-12-cbr-6-d4-2418124
END:VEVENT
END:VCALENDAR
