BEGIN:VCALENDAR
VERSION:2.0
PRODID:-//hacksw/handcal//NONSGML v1.0//EN
BEGIN:VEVENT
SUMMARY:R1 Poule A 12-BAM-1 R1 contre 66-BSE-1 R1
UID:71d33a70-2b67-4737-a5b5-4f03b1c7e1aa
DTSTART:20251019T080000Z
DTEND:20251019T220000Z
LOCATION:Localisation   
CATEGORIES:Sportif
STATUS:
URL;VALUE=URI:https://bad-au-monas.sportsregions.fr/evenements/2025/10/19/r1-poule-a-12-bam-1-r1-contre-66-bse-1-r1-2418102
END:VEVENT
END:VCALENDAR
