BEGIN:VCALENDAR
VERSION:2.0
PRODID:-//hacksw/handcal//NONSGML v1.0//EN
BEGIN:VEVENT
SUMMARY:R1 Poule A 31-SOBAD-2 R1 contre 12-BAM-1 R1
UID:d08751ac-2f4f-4d44-8297-5c3787db83d8
DTSTART:20251019T120000Z
DTEND:20251019T220000Z
LOCATION:Localisation   
CATEGORIES:Sportif
STATUS:
URL;VALUE=URI:https://bad-au-monas.sportsregions.fr/evenements/2025/10/19/r1-poule-a-31-sobad-2-r1-contre-12-bam-1-r1-2418101
END:VEVENT
END:VCALENDAR
