BEGIN:VCALENDAR
VERSION:2.0
PRODID:-//hacksw/handcal//NONSGML v1.0//EN
BEGIN:VEVENT
SUMMARY:D1 D1 12-SOMB-1 D1 contre 12-BAM-2 D1
UID:a75c98d1-cdd7-4d20-adfc-26e0d59a7de7
DTSTART:20251109T130000Z
DTEND:20251109T230000Z
LOCATION:Localisation   
CATEGORIES:Sportif
STATUS:
URL;VALUE=URI:https://bad-au-monas.sportsregions.fr/evenements/2025/11/09/d1-d1-12-somb-1-d1-contre-12-bam-2-d1-2418097
END:VEVENT
END:VCALENDAR
