BEGIN:VCALENDAR
VERSION:2.0
PRODID:-//hacksw/handcal//NONSGML v1.0//EN
BEGIN:VEVENT
SUMMARY:D2 D2 12-BAM-3 D2 contre 48-BCBG-3 D2
UID:bd458784-771d-4a94-aac7-ba4fc0d80dd3
DTSTART:20251109T090000Z
DTEND:20251109T230000Z
LOCATION:Localisation   
CATEGORIES:Sportif
STATUS:
URL;VALUE=URI:https://bad-au-monas.sportsregions.fr/evenements/2025/11/09/d2-d2-12-bam-3-d2-contre-48-bcbg-3-d2-2418100
END:VEVENT
END:VCALENDAR
