BEGIN:VCALENDAR
VERSION:2.0
PRODID:-//hacksw/handcal//NONSGML v1.0//EN
BEGIN:VEVENT
SUMMARY:D2 D2 48-BCM-1 D2 contre 12-BAM-3 D2
UID:afb95af2-5ee6-4102-802a-862ad8158e4a
DTSTART:20251109T130000Z
DTEND:20251109T230000Z
LOCATION:Localisation   
CATEGORIES:Sportif
STATUS:
URL;VALUE=URI:https://bad-au-monas.sportsregions.fr/evenements/2025/11/09/d2-d2-48-bcm-1-d2-contre-12-bam-3-d2-2418096
END:VEVENT
END:VCALENDAR
