BEGIN:VCALENDAR
VERSION:2.0
PRODID:-//hacksw/handcal//NONSGML v1.0//EN
BEGIN:VEVENT
SUMMARY:R1 Poule A 81-CBC-1 R1 contre 12-BAM-1 R1
UID:ac316b74-1b9e-49a9-ba4d-4ce38324d41f
DTSTART:20251109T090000Z
DTEND:20251109T230000Z
LOCATION:Localisation   
CATEGORIES:Sportif
STATUS:
URL;VALUE=URI:https://bad-au-monas.sportsregions.fr/evenements/2025/11/09/r1-poule-a-81-cbc-1-r1-contre-12-bam-1-r1-2418099
END:VEVENT
END:VCALENDAR
