BEGIN:VCALENDAR
VERSION:2.0
PRODID:-//hacksw/handcal//NONSGML v1.0//EN
BEGIN:VEVENT
SUMMARY:D1 D1 12-SAB-1 D1 contre 12-BAM-2 D1
UID:dd8e8f13-4cfb-4594-b9aa-7cb408fb2ef6
DTSTART:20251214T130000Z
DTEND:20251214T230000Z
LOCATION:Localisation   
CATEGORIES:Sportif
STATUS:
URL;VALUE=URI:https://bad-au-monas.sportsregions.fr/evenements/2025/12/14/d1-d1-12-sab-1-d1-contre-12-bam-2-d1-2418087
END:VEVENT
END:VCALENDAR
