BEGIN:VCALENDAR
VERSION:2.0
PRODID:-//hacksw/handcal//NONSGML v1.0//EN
BEGIN:VEVENT
SUMMARY:D2 D2 12-SAB-2 D2 contre 12-BAM-3 D2
UID:408700a1-7ba9-4abb-ba0e-1caf471c3b71
DTSTART:20251214T130000Z
DTEND:20251214T230000Z
LOCATION:Localisation   
CATEGORIES:Sportif
STATUS:
URL;VALUE=URI:https://bad-au-monas.sportsregions.fr/evenements/2025/12/14/d2-d2-12-sab-2-d2-contre-12-bam-3-d2-2418084
END:VEVENT
END:VCALENDAR
