BEGIN:VCALENDAR
VERSION:2.0
PRODID:-//hacksw/handcal//NONSGML v1.0//EN
BEGIN:VEVENT
SUMMARY:D3 D3 A 48-FRCBC-1 D3 contre 12-BAM-4 D3
UID:7a15cd87-b7b4-4f90-9242-202568196d7e
DTSTART:20251214T130000Z
DTEND:20251214T230000Z
LOCATION:Localisation   
CATEGORIES:Sportif
STATUS:
URL;VALUE=URI:https://bad-au-monas.sportsregions.fr/evenements/2025/12/14/d3-d3-a-48-frcbc-1-d3-contre-12-bam-4-d3-2418088
END:VEVENT
END:VCALENDAR
