BEGIN:VCALENDAR
VERSION:2.0
PRODID:-//hacksw/handcal//NONSGML v1.0//EN
BEGIN:VEVENT
SUMMARY:D4 D4 48-BCBG-4 D4 contre 12-BAM-5 D4
UID:99b1fff9-7e27-4915-965c-d127f796a88a
DTSTART:20251214T090000Z
DTEND:20251214T230000Z
LOCATION:Localisation   
CATEGORIES:Sportif
STATUS:
URL;VALUE=URI:https://bad-au-monas.sportsregions.fr/evenements/2025/12/14/d4-d4-48-bcbg-4-d4-contre-12-bam-5-d4-2418092
END:VEVENT
END:VCALENDAR
