BEGIN:VCALENDAR
VERSION:2.0
PRODID:-//hacksw/handcal//NONSGML v1.0//EN
BEGIN:VEVENT
SUMMARY:R1 Poule A 31-BBC-4 R1 contre 12-BAM-1 R1
UID:2722c4a6-3e6e-4eed-b9a5-0f53e3d5bf80
DTSTART:20251214T090000Z
DTEND:20251214T230000Z
LOCATION:Localisation   
CATEGORIES:Sportif
STATUS:
URL;VALUE=URI:https://bad-au-monas.sportsregions.fr/evenements/2025/12/14/r1-poule-a-31-bbc-4-r1-contre-12-bam-1-r1-2418091
END:VEVENT
END:VCALENDAR
