BEGIN:VCALENDAR
VERSION:2.0
PRODID:-//hacksw/handcal//NONSGML v1.0//EN
BEGIN:VEVENT
SUMMARY:R1 Poule A 66-BSE-1 R1 contre 12-BAM-1 R1
UID:6ff3699b-0569-4bb0-861b-ffad66f8c0dd
DTSTART:20251214T130000Z
DTEND:20251214T230000Z
LOCATION:Localisation   
CATEGORIES:Sportif
STATUS:
URL;VALUE=URI:https://bad-au-monas.sportsregions.fr/evenements/2025/12/14/r1-poule-a-66-bse-1-r1-contre-12-bam-1-r1-2418085
END:VEVENT
END:VCALENDAR
