BEGIN:VCALENDAR
VERSION:2.0
PRODID:-//hacksw/handcal//NONSGML v1.0//EN
BEGIN:VEVENT
SUMMARY:D2 D2 12-BAM-3 D2 contre 12-CBR-3 D2
UID:d640d4a9-6cec-4130-ba0e-74711a91b211
DTSTART:20260118T090000Z
DTEND:20260118T230000Z
LOCATION:Localisation   
CATEGORIES:Sportif
STATUS:
URL;VALUE=URI:https://bad-au-monas.sportsregions.fr/evenements/2026/01/18/d2-d2-12-bam-3-d2-contre-12-cbr-3-d2-2418078
END:VEVENT
END:VCALENDAR
