BEGIN:VCALENDAR
VERSION:2.0
PRODID:-//hacksw/handcal//NONSGML v1.0//EN
BEGIN:VEVENT
SUMMARY:D2 D2 48-BCBG-3 D2 contre 12-BAM-3 D2
UID:d991491b-96df-4ac6-865d-9b97e4e5d8ae
DTSTART:20260118T130000Z
DTEND:20260118T230000Z
LOCATION:Localisation   
CATEGORIES:Sportif
STATUS:
URL;VALUE=URI:https://bad-au-monas.sportsregions.fr/evenements/2026/01/18/d2-d2-48-bcbg-3-d2-contre-12-bam-3-d2-2418076
END:VEVENT
END:VCALENDAR
