BEGIN:VCALENDAR
VERSION:2.0
PRODID:-//hacksw/handcal//NONSGML v1.0//EN
BEGIN:VEVENT
SUMMARY:D4 D4 48-FRCBC-2 D4 contre 12-BAM-5 D4
UID:673f6a1b-8a35-4ac7-87f7-ba402320dc82
DTSTART:20260118T090000Z
DTEND:20260118T230000Z
LOCATION:Localisation   
CATEGORIES:Sportif
STATUS:
URL;VALUE=URI:https://bad-au-monas.sportsregions.fr/evenements/2026/01/18/d4-d4-48-frcbc-2-d4-contre-12-bam-5-d4-2418080
END:VEVENT
END:VCALENDAR
