BEGIN:VCALENDAR
VERSION:2.0
PRODID:-//hacksw/handcal//NONSGML v1.0//EN
BEGIN:VEVENT
SUMMARY:R1 Poule A 12-BAM-1 R1 contre 31-SOBAD-2 R1
UID:19948aef-749a-4d90-8f0f-063dce828368
DTSTART:20260118T090000Z
DTEND:20260118T230000Z
LOCATION:Localisation   
CATEGORIES:Sportif
STATUS:
URL;VALUE=URI:https://bad-au-monas.sportsregions.fr/evenements/2026/01/18/r1-poule-a-12-bam-1-r1-contre-31-sobad-2-r1-2418082
END:VEVENT
END:VCALENDAR
