BEGIN:VCALENDAR
VERSION:2.0
PRODID:-//hacksw/handcal//NONSGML v1.0//EN
BEGIN:VEVENT
SUMMARY:D3 D3 A 12-BAM-4 D3 contre 48-FRCBC-1 D3
UID:309bea9b-d368-4808-afcc-e0af56503d9a
DTSTART:20260315T090000Z
DTEND:20260315T230000Z
LOCATION:Localisation   
CATEGORIES:Sportif
STATUS:
URL;VALUE=URI:https://bad-au-monas.sportsregions.fr/evenements/2026/03/15/d3-d3-a-12-bam-4-d3-contre-48-frcbc-1-d3-2418105
END:VEVENT
END:VCALENDAR
