BEGIN:VCALENDAR
VERSION:2.0
PRODID:-//hacksw/handcal//NONSGML v1.0//EN
BEGIN:VEVENT
SUMMARY:D3 D3 A 12-SOMB-2 D3 contre 12-BAM-4 D3
UID:2f01ae54-b2b2-46fc-9acd-b0cbcbf2105d
DTSTART:20260315T130000Z
DTEND:20260315T230000Z
LOCATION:Localisation   
CATEGORIES:Sportif
STATUS:
URL;VALUE=URI:https://bad-au-monas.sportsregions.fr/evenements/2026/03/15/d3-d3-a-12-somb-2-d3-contre-12-bam-4-d3-2418108
END:VEVENT
END:VCALENDAR
