BEGIN:VCALENDAR
VERSION:2.0
PRODID:-//hacksw/handcal//NONSGML v1.0//EN
BEGIN:VEVENT
SUMMARY:R1 Poule A 12-BAM-1 R1 contre 31-BBC-4 R1
UID:e0534ad7-0e04-4d50-ac3e-46b8b1a9969b
DTSTART:20260315T130000Z
DTEND:20260315T230000Z
LOCATION:Localisation   
CATEGORIES:Sportif
STATUS:
URL;VALUE=URI:https://bad-au-monas.sportsregions.fr/evenements/2026/03/15/r1-poule-a-12-bam-1-r1-contre-31-bbc-4-r1-2418106
END:VEVENT
END:VCALENDAR
