BEGIN:VCALENDAR
VERSION:2.0
PRODID:-//hacksw/handcal//NONSGML v1.0//EN
BEGIN:VEVENT
SUMMARY:R1 Poule A 12-BAM-1 R1 contre 82-MBC-1 R1
UID:449b8c06-5ea2-40b4-a2df-dda9a1de2b65
DTSTART:20260315T090000Z
DTEND:20260315T230000Z
LOCATION:Localisation   
CATEGORIES:Sportif
STATUS:
URL;VALUE=URI:https://bad-au-monas.sportsregions.fr/evenements/2026/03/15/r1-poule-a-12-bam-1-r1-contre-82-mbc-1-r1-2418104
END:VEVENT
END:VCALENDAR
