BEGIN:VCALENDAR
VERSION:2.0
PRODID:-//hacksw/handcal//NONSGML v1.0//EN
BEGIN:VEVENT
SUMMARY:D2 D2 12-BAM-3 D2 contre 48-BCM-1 D2
UID:04573615-09dc-47e3-a9cd-e9809539c805
DTSTART:20260329T080000Z
DTEND:20260329T230000Z
LOCATION:Localisation   
CATEGORIES:Sportif
STATUS:
URL;VALUE=URI:https://bad-au-monas.sportsregions.fr/evenements/2026/03/29/d2-d2-12-bam-3-d2-contre-48-bcm-1-d2-2418110
END:VEVENT
END:VCALENDAR
