BEGIN:VCALENDAR
VERSION:2.0
PRODID:-//hacksw/handcal//NONSGML v1.0//EN
BEGIN:VEVENT
SUMMARY:D2 D2 12-GBC-1 D2 contre 12-BAM-3 D2
UID:67a3447e-2639-4644-84b8-ff31a40e7086
DTSTART:20260329T120000Z
DTEND:20260329T230000Z
LOCATION:Localisation   
CATEGORIES:Sportif
STATUS:
URL;VALUE=URI:https://bad-au-monas.sportsregions.fr/evenements/2026/03/29/d2-d2-12-gbc-1-d2-contre-12-bam-3-d2-2418112
END:VEVENT
END:VCALENDAR
