BEGIN:VCALENDAR
VERSION:2.0
PRODID:-//hacksw/handcal//NONSGML v1.0//EN
BEGIN:VEVENT
SUMMARY:D5 D5 12-CBR-7 D5 contre 12-BAM-6 D5
UID:b7c2e823-432b-435c-b0d6-d5aa572de4ac
DTSTART:20260329T080000Z
DTEND:20260329T230000Z
LOCATION:Localisation   
CATEGORIES:Sportif
STATUS:
URL;VALUE=URI:https://bad-au-monas.sportsregions.fr/evenements/2026/03/29/d5-d5-12-cbr-7-d5-contre-12-bam-6-d5-2418109
END:VEVENT
END:VCALENDAR
