BEGIN:VCALENDAR
VERSION:2.0
PRODID:-//hacksw/handcal//NONSGML v1.0//EN
BEGIN:VEVENT
SUMMARY:D1 D1 12-BAM-2 D1 contre 12-SOMB-1 D1
UID:173165cf-21bc-4949-ad32-4251274daf05
DTSTART:20260412T080000Z
DTEND:20260412T220000Z
LOCATION:Localisation   
CATEGORIES:Sportif
STATUS:
URL;VALUE=URI:https://bad-au-monas.sportsregions.fr/evenements/2026/04/12/d1-d1-12-bam-2-d1-contre-12-somb-1-d1-2418116
END:VEVENT
END:VCALENDAR
