BEGIN:VCALENDAR
VERSION:2.0
PRODID:-//hacksw/handcal//NONSGML v1.0//EN
BEGIN:VEVENT
SUMMARY:D2 D2 12-BAM-3 D2 contre 12-SAB-2 D2
UID:1d61d538-2b85-4cf3-bcab-ea90dde4dca5
DTSTART:20260412T080000Z
DTEND:20260412T220000Z
LOCATION:Localisation   
CATEGORIES:Sportif
STATUS:
URL;VALUE=URI:https://bad-au-monas.sportsregions.fr/evenements/2026/04/12/d2-d2-12-bam-3-d2-contre-12-sab-2-d2-2418115
END:VEVENT
END:VCALENDAR
