BEGIN:VCALENDAR
VERSION:2.0
PRODID:-//hacksw/handcal//NONSGML v1.0//EN
BEGIN:VEVENT
SUMMARY:D4 D4 12-BAM-5 D4 contre 48-FRCBC-2 D4
UID:1b21ba06-24f0-4c33-8f63-9a68e6cce570
DTSTART:20260412T120000Z
DTEND:20260412T220000Z
LOCATION:Localisation   
CATEGORIES:Sportif
STATUS:
URL;VALUE=URI:https://bad-au-monas.sportsregions.fr/evenements/2026/04/12/d4-d4-12-bam-5-d4-contre-48-frcbc-2-d4-2418117
END:VEVENT
END:VCALENDAR
