BEGIN:VCALENDAR
VERSION:2.0
PRODID:-//hacksw/handcal//NONSGML v1.0//EN
BEGIN:VEVENT
SUMMARY:D5 D5 12-GBC-2 D5 contre 12-BAM-6 D5
UID:6892c838-c41c-42f9-a01b-342feebf4a5c
DTSTART:20260412T080000Z
DTEND:20260412T220000Z
LOCATION:Localisation   
CATEGORIES:Sportif
STATUS:
URL;VALUE=URI:https://bad-au-monas.sportsregions.fr/evenements/2026/04/12/d5-d5-12-gbc-2-d5-contre-12-bam-6-d5-2418114
END:VEVENT
END:VCALENDAR
