BEGIN:VCALENDAR
VERSION:2.0
PRODID:-//hacksw/handcal//NONSGML v1.0//EN
BEGIN:VEVENT
SUMMARY:Demi finale 2 R1 Play-Off R1 (places de 5 a 8) 12-BAM-1 R1 contre 31-USRB-2 R1
UID:f628cacc-d0ba-47e1-95b1-a2cf225efcdd
DTSTART:20260412T080000Z
DTEND:20260412T220000Z
LOCATION:Localisation   
CATEGORIES:Sportif
STATUS:
URL;VALUE=URI:https://bad-au-monas.sportsregions.fr/evenements/2026/04/12/demi-finale-2-r1-play-off-r1-places-de-5-a-8-12-bam-1-r1-contre-31-usrb-2-r1-2429367
END:VEVENT
END:VCALENDAR
